BEGIN:VCALENDAR
VERSION:2.0
PRODID:-//Embrace Books - ECPv6.15.20//NONSGML v1.0//EN
CALSCALE:GREGORIAN
METHOD:PUBLISH
X-WR-CALNAME:Embrace Books
X-ORIGINAL-URL:https://embracebooks.org
X-WR-CALDESC:Events for Embrace Books
REFRESH-INTERVAL;VALUE=DURATION:PT1H
X-Robots-Tag:noindex
X-PUBLISHED-TTL:PT1H
BEGIN:VTIMEZONE
TZID:America/Detroit
BEGIN:DAYLIGHT
TZOFFSETFROM:-0500
TZOFFSETTO:-0400
TZNAME:EDT
DTSTART:20250309T070000
END:DAYLIGHT
BEGIN:STANDARD
TZOFFSETFROM:-0400
TZOFFSETTO:-0500
TZNAME:EST
DTSTART:20251102T060000
END:STANDARD
BEGIN:DAYLIGHT
TZOFFSETFROM:-0500
TZOFFSETTO:-0400
TZNAME:EDT
DTSTART:20260308T070000
END:DAYLIGHT
BEGIN:STANDARD
TZOFFSETFROM:-0400
TZOFFSETTO:-0500
TZNAME:EST
DTSTART:20261101T060000
END:STANDARD
BEGIN:DAYLIGHT
TZOFFSETFROM:-0500
TZOFFSETTO:-0400
TZNAME:EDT
DTSTART:20270314T070000
END:DAYLIGHT
BEGIN:STANDARD
TZOFFSETFROM:-0400
TZOFFSETTO:-0500
TZNAME:EST
DTSTART:20271107T060000
END:STANDARD
END:VTIMEZONE
BEGIN:VEVENT
DTSTART;TZID=America/Detroit:20260411T083000
DTEND;TZID=America/Detroit:20260411T130000
DTSTAMP:20260421T184417
CREATED:20260306T140659Z
LAST-MODIFIED:20260306T140735Z
UID:5679-1775896200-1775912400@embracebooks.org
SUMMARY:Donation Hours
DESCRIPTION:Book donations accepted during this time. All genres accepted. Books and audiobooks on CDs accepted. If possible\, please have books in boxes. Books must be in decent used condition. NO musty\, moldy\, dusty books please. Embrace Books reserves the right to refuse donations based on these criteria.
URL:https://embracebooks.org/event/donation-hours
LOCATION:Embrace Books\, 1050 West Southern Avenue\, Muskegon\, MI\, 49441\, United States
CATEGORIES:Donation Times
END:VEVENT
BEGIN:VEVENT
DTSTART;TZID=America/Detroit:20260411T080000
DTEND;TZID=America/Detroit:20260411T160000
DTSTAMP:20260421T184417
CREATED:20260306T140954Z
LAST-MODIFIED:20260306T140954Z
UID:5687-1775894400-1775923200@embracebooks.org
SUMMARY:Open Day
DESCRIPTION:Parking available behind the building. Follow signs to entrance under awning.
URL:https://embracebooks.org/event/open-day-31
LOCATION:Embrace Books\, 1050 West Southern Avenue\, Muskegon\, MI\, 49441\, United States
CATEGORIES:Open Hours
END:VEVENT
BEGIN:VEVENT
DTSTART;TZID=America/Detroit:20260321T083000
DTEND;TZID=America/Detroit:20260321T130000
DTSTAMP:20260421T184417
CREATED:20260102T181332Z
LAST-MODIFIED:20260102T181332Z
UID:5663-1774081800-1774098000@embracebooks.org
SUMMARY:Donation Hours
DESCRIPTION:Book donations accepted during this time. All genres accepted. Books and audiobooks on CDs accepted.  If possible\, please have books in boxes.  Books must be in decent used condition. NO musty\, moldy\, dusty books please.  Embrace Books reserves the right to refuse donations based on these criteria.
URL:https://embracebooks.org/event/donation-hours-6
LOCATION:Embrace Books\, 1050 West Southern Avenue\, Muskegon\, MI\, 49441\, United States
CATEGORIES:Donation Times
END:VEVENT
BEGIN:VEVENT
DTSTART;TZID=America/Detroit:20260321T080000
DTEND;TZID=America/Detroit:20260321T160000
DTSTAMP:20260421T184417
CREATED:20260102T181653Z
LAST-MODIFIED:20260117T134514Z
UID:5675-1774080000-1774108800@embracebooks.org
SUMMARY:Open Day
DESCRIPTION:Parking available behind the building. Follow signs to entrance under awning.
URL:https://embracebooks.org/event/open-day-36
LOCATION:Embrace Books\, 1050 West Southern Avenue\, Muskegon\, MI\, 49441\, United States
CATEGORIES:Open Hours
END:VEVENT
END:VCALENDAR