BEGIN:VCALENDAR
VERSION:2.0
PRODID:-//Embrace Books - ECPv6.15.20//NONSGML v1.0//EN
CALSCALE:GREGORIAN
METHOD:PUBLISH
X-WR-CALNAME:Embrace Books
X-ORIGINAL-URL:https://embracebooks.org
X-WR-CALDESC:Events for Embrace Books
REFRESH-INTERVAL;VALUE=DURATION:PT1H
X-Robots-Tag:noindex
X-PUBLISHED-TTL:PT1H
BEGIN:VTIMEZONE
TZID:America/Detroit
BEGIN:DAYLIGHT
TZOFFSETFROM:-0500
TZOFFSETTO:-0400
TZNAME:EDT
DTSTART:20250309T070000
END:DAYLIGHT
BEGIN:STANDARD
TZOFFSETFROM:-0400
TZOFFSETTO:-0500
TZNAME:EST
DTSTART:20251102T060000
END:STANDARD
BEGIN:DAYLIGHT
TZOFFSETFROM:-0500
TZOFFSETTO:-0400
TZNAME:EDT
DTSTART:20260308T070000
END:DAYLIGHT
BEGIN:STANDARD
TZOFFSETFROM:-0400
TZOFFSETTO:-0500
TZNAME:EST
DTSTART:20261101T060000
END:STANDARD
BEGIN:DAYLIGHT
TZOFFSETFROM:-0500
TZOFFSETTO:-0400
TZNAME:EDT
DTSTART:20270314T070000
END:DAYLIGHT
BEGIN:STANDARD
TZOFFSETFROM:-0400
TZOFFSETTO:-0500
TZNAME:EST
DTSTART:20271107T060000
END:STANDARD
END:VTIMEZONE
BEGIN:VEVENT
DTSTART;TZID=America/Detroit:20260509T080000
DTEND;TZID=America/Detroit:20260509T160000
DTSTAMP:20260421T162314
CREATED:20260306T141040Z
LAST-MODIFIED:20260306T141040Z
UID:5691-1778313600-1778342400@embracebooks.org
SUMMARY:Open Day
DESCRIPTION:Parking available behind the building. Follow signs to entrance under awning.
URL:https://embracebooks.org/event/open-day-37
LOCATION:Embrace Books\, 1050 West Southern Avenue\, Muskegon\, MI\, 49441\, United States
CATEGORIES:Open Hours
END:VEVENT
BEGIN:VEVENT
DTSTART;TZID=America/Detroit:20260509T083000
DTEND;TZID=America/Detroit:20260509T130000
DTSTAMP:20260421T162314
CREATED:20260306T140836Z
LAST-MODIFIED:20260306T140836Z
UID:5683-1778315400-1778331600@embracebooks.org
SUMMARY:Donation Hours
DESCRIPTION:Book donations accepted during this time. All genres accepted. Books and audiobooks on CDs accepted. If possible\, please have books in boxes. Books must be in decent used condition. NO musty\, moldy\, dusty books please. Embrace Books reserves the right to refuse donations based on these criteria.
URL:https://embracebooks.org/event/donation-hours-7
LOCATION:Embrace Books\, 1050 West Southern Avenue\, Muskegon\, MI\, 49441\, United States
CATEGORIES:Donation Times
END:VEVENT
BEGIN:VEVENT
DTSTART;TZID=America/Detroit:20260523T080000
DTEND;TZID=America/Detroit:20260523T160000
DTSTAMP:20260421T162314
CREATED:20260306T141110Z
LAST-MODIFIED:20260306T141110Z
UID:5693-1779523200-1779552000@embracebooks.org
SUMMARY:Open Day
DESCRIPTION:Parking available behind the building. Follow signs to entrance under awning.
URL:https://embracebooks.org/event/open-day-38
LOCATION:Embrace Books\, 1050 West Southern Avenue\, Muskegon\, MI\, 49441\, United States
CATEGORIES:Open Hours
END:VEVENT
BEGIN:VEVENT
DTSTART;TZID=America/Detroit:20260523T083000
DTEND;TZID=America/Detroit:20260523T130000
DTSTAMP:20260421T162314
CREATED:20260306T140906Z
LAST-MODIFIED:20260306T140906Z
UID:5685-1779525000-1779541200@embracebooks.org
SUMMARY:Donation Hours
DESCRIPTION:Book donations accepted during this time. All genres accepted. Books and audiobooks on CDs accepted. If possible\, please have books in boxes. Books must be in decent used condition. NO musty\, moldy\, dusty books please. Embrace Books reserves the right to refuse donations based on these criteria.
URL:https://embracebooks.org/event/donation-hours-8
LOCATION:Embrace Books\, 1050 West Southern Avenue\, Muskegon\, MI\, 49441\, United States
CATEGORIES:Donation Times
END:VEVENT
END:VCALENDAR